BEGIN:VCALENDAR
VERSION:2.0
PRODID:-//AirportsUK - ECPv6.15.20//NONSGML v1.0//EN
CALSCALE:GREGORIAN
METHOD:PUBLISH
X-ORIGINAL-URL:https://airportsuk.org
X-WR-CALDESC:Events for AirportsUK
REFRESH-INTERVAL;VALUE=DURATION:PT1H
X-Robots-Tag:noindex
X-PUBLISHED-TTL:PT1H
BEGIN:VTIMEZONE
TZID:Europe/London
BEGIN:DAYLIGHT
TZOFFSETFROM:+0000
TZOFFSETTO:+0100
TZNAME:BST
DTSTART:20250330T010000
END:DAYLIGHT
BEGIN:STANDARD
TZOFFSETFROM:+0100
TZOFFSETTO:+0000
TZNAME:GMT
DTSTART:20251026T010000
END:STANDARD
BEGIN:DAYLIGHT
TZOFFSETFROM:+0000
TZOFFSETTO:+0100
TZNAME:BST
DTSTART:20260329T010000
END:DAYLIGHT
BEGIN:STANDARD
TZOFFSETFROM:+0100
TZOFFSETTO:+0000
TZNAME:GMT
DTSTART:20261025T010000
END:STANDARD
BEGIN:DAYLIGHT
TZOFFSETFROM:+0000
TZOFFSETTO:+0100
TZNAME:BST
DTSTART:20270328T010000
END:DAYLIGHT
BEGIN:STANDARD
TZOFFSETFROM:+0100
TZOFFSETTO:+0000
TZNAME:GMT
DTSTART:20271031T010000
END:STANDARD
END:VTIMEZONE
BEGIN:VEVENT
DTSTART;VALUE=DATE:20260916
DTEND;VALUE=DATE:20260918
DTSTAMP:20260420T053651
CREATED:20251105T104241Z
LAST-MODIFIED:20251105T104510Z
UID:10000701-1789516800-1789689599@airportsuk.org
SUMMARY:AirportsUK ¦ Airports Conference ¦ Security ¦ 16-17 September ¦ MEMBERS ONLY
DESCRIPTION:Save the date ¦ The AirportsUK Security Conference brings together airport security professionals as well as companies providing security solutions\, services and equipment.  The past years we have seen an increasing interest in this event. Over the course of two days\, participants will have the opportunity to share professional knowledge from both airports and suppliers and hear directly from the Government\, regulators and external experts focussing on issues such as security policy\, technological innovations and improvements\, and regulatory requirements.  There will be fantastic networking opportunity with colleagues from the wider airport security community during lunches\, networking breaks drinks reception and a conference dinner. \nThis is a ticketed event for members of AirportsUK only.
URL:https://airportsuk.org/event/airportsuk-%c2%a6-airports-conference-%c2%a6-security-%c2%a6-16-17-september-%c2%a6-members-only/
LOCATION:Radisson Blu\, Manchester Airport\, Chicago Ave\, Manchester\, M90 3RA
ATTACH;FMTTYPE=image/png:https://airportsuk.org/wp-content/uploads/2024/03/aoa-feture-image.png
END:VEVENT
END:VCALENDAR