BEGIN:VCALENDAR
VERSION:2.0
PRODID:-//AirportsUK - ECPv6.15.20//NONSGML v1.0//EN
CALSCALE:GREGORIAN
METHOD:PUBLISH
X-ORIGINAL-URL:https://airportsuk.org
X-WR-CALDESC:Events for AirportsUK
REFRESH-INTERVAL;VALUE=DURATION:PT1H
X-Robots-Tag:noindex
X-PUBLISHED-TTL:PT1H
BEGIN:VTIMEZONE
TZID:Europe/London
BEGIN:DAYLIGHT
TZOFFSETFROM:+0000
TZOFFSETTO:+0100
TZNAME:BST
DTSTART:20250330T010000
END:DAYLIGHT
BEGIN:STANDARD
TZOFFSETFROM:+0100
TZOFFSETTO:+0000
TZNAME:GMT
DTSTART:20251026T010000
END:STANDARD
BEGIN:DAYLIGHT
TZOFFSETFROM:+0000
TZOFFSETTO:+0100
TZNAME:BST
DTSTART:20260329T010000
END:DAYLIGHT
BEGIN:STANDARD
TZOFFSETFROM:+0100
TZOFFSETTO:+0000
TZNAME:GMT
DTSTART:20261025T010000
END:STANDARD
BEGIN:DAYLIGHT
TZOFFSETFROM:+0000
TZOFFSETTO:+0100
TZNAME:BST
DTSTART:20270328T010000
END:DAYLIGHT
BEGIN:STANDARD
TZOFFSETFROM:+0100
TZOFFSETTO:+0000
TZNAME:GMT
DTSTART:20271031T010000
END:STANDARD
END:VTIMEZONE
BEGIN:VEVENT
DTSTART;TZID=Europe/London:20260506T110000
DTEND;TZID=Europe/London:20260507T130000
DTSTAMP:20260421T173113
CREATED:20260129T100051Z
LAST-MODIFIED:20260330T144257Z
UID:10000708-1778065200-1778158800@airportsuk.org
SUMMARY:MEMBERS ONLY: AirportsUK ¦ Airport Sustainability Conference ¦ 06 - 07 May 2026
DESCRIPTION:Join us on Wednesday 06 and Thursday 07 May 2026 for the prestigious biennial AirportsUK Sustainability Conference\, being held this year in at the Radisson Blu\, Glasgow. \nOver 100 attendees drawn from the UK’s airport community\, its supply and the sector’s major stakeholders\, will gather together for this major event to discuss the latest progress being made to ensure airports continue to lead the way in sustainability. \nKeynote speeches\, panel sessions and presentations from senior industry figures\, the Department for Transport\, the UK Civil Aviation Authority and Environment Agency\, and more\, make this a must-attend event for anyone working in airport sustainability. \nTopics covered over the course of this unmissable two-day conference will include: \n\nairport and aircraft decarbonisation;\nSAF\, PFAS\, GHG removals;\nUK prospects on carbon;\nairport case studies;\nand much more besides!\n\nThe full agenda is available here and you can book your place below to ensure you are able to join us for what promises to be an outstanding\, industry-leading conference! \nBefore booking your places\, please familiarise yourself with the AirportsUK Airports Sustainability Conference 2026 Terms and Conditions.
URL:https://airportsuk.org/event/airportsuk-sustainability-conference-2026/
LOCATION:Radisson Blu\, Glasgow\, 301 Argyle Street\, Glasgow\, G2 8DL
CATEGORIES:Flagship Events
ATTACH;FMTTYPE=image/jpeg:https://airportsuk.org/wp-content/uploads/2026/01/Event-square-Airport-Sustainability-Conference-2026-BIG-SPONSORS.jpg
END:VEVENT
END:VCALENDAR