BEGIN:VCALENDAR
VERSION:2.0
PRODID:-//AirportsUK - ECPv6.15.20//NONSGML v1.0//EN
CALSCALE:GREGORIAN
METHOD:PUBLISH
X-WR-CALNAME:AirportsUK
X-ORIGINAL-URL:https://airportsuk.org
X-WR-CALDESC:Events for AirportsUK
REFRESH-INTERVAL;VALUE=DURATION:PT1H
X-Robots-Tag:noindex
X-PUBLISHED-TTL:PT1H
BEGIN:VTIMEZONE
TZID:Europe/London
BEGIN:DAYLIGHT
TZOFFSETFROM:+0000
TZOFFSETTO:+0100
TZNAME:BST
DTSTART:20230326T010000
END:DAYLIGHT
BEGIN:STANDARD
TZOFFSETFROM:+0100
TZOFFSETTO:+0000
TZNAME:GMT
DTSTART:20231029T010000
END:STANDARD
BEGIN:DAYLIGHT
TZOFFSETFROM:+0000
TZOFFSETTO:+0100
TZNAME:BST
DTSTART:20240331T010000
END:DAYLIGHT
BEGIN:STANDARD
TZOFFSETFROM:+0100
TZOFFSETTO:+0000
TZNAME:GMT
DTSTART:20241027T010000
END:STANDARD
BEGIN:DAYLIGHT
TZOFFSETFROM:+0000
TZOFFSETTO:+0100
TZNAME:BST
DTSTART:20250330T010000
END:DAYLIGHT
BEGIN:STANDARD
TZOFFSETFROM:+0100
TZOFFSETTO:+0000
TZNAME:GMT
DTSTART:20251026T010000
END:STANDARD
END:VTIMEZONE
BEGIN:VEVENT
DTSTART;TZID=Europe/London:20240910T110000
DTEND;TZID=Europe/London:20240910T130000
DTSTAMP:20260422T155324
CREATED:20230816T055538Z
LAST-MODIFIED:20240628T133125Z
UID:10000544-1725966000-1725973200@airportsuk.org
SUMMARY:Public Affairs & Communications Network and Policy Committee meeting
DESCRIPTION:This joint meeting of AirportUK’s Public Affairs and Communications Network (PACN) and Policy Committee supports our work representing UK airports to government ministers and officials\, national and regional politicians\, wider stakeholders\, the media and the general public. \nMembers of PACN and the Policy Committee inform\, discuss and shape the AOA’s policy\, public affairs and media priorities and outreach to MPs (including the Future of Aviation APPG)\, MSPs\, MSs\, MLAs and other directly elected figures across the UK. \nThe groups meet both formally to update on and discuss a full range of issues and hear from knowledgeable\, informed and relevant speakers\, and are consulted on an ad hoc basis on specific issues as they arise. \nCurrent issues include the competitiveness and attractiveness of aviation\, sustainability issues\, borders\, airspace modernisation and airport/airline regulatory policy. \nFor more on this excellent opportunity for airport colleagues to connect over work they are doing in support of their businesses\, please email info@airportsuk.org.
URL:https://airportsuk.org/event/pacn-policy-committee-%c2%a6-in-person-5/
LOCATION:AirportsUK Offices\, Kings Buildings\, 16 Smith Square\, London\, SW1P 3HQ\, United Kingdom
CATEGORIES:Specialists' Groups
ATTACH;FMTTYPE=image/jpeg:https://airportsuk.org/wp-content/uploads/2023/08/PACN.jpg
END:VEVENT
BEGIN:VEVENT
DTSTART;TZID=Europe/London:20240903T090000
DTEND;TZID=Europe/London:20240903T160000
DTSTAMP:20260422T155324
CREATED:20231025T104712Z
LAST-MODIFIED:20240628T133125Z
UID:10000560-1725354000-1725379200@airportsuk.org
SUMMARY:Aerodrome Safeguarding Working Group airport visit
DESCRIPTION:The Aerodrome Safeguarding working group brings together airport staff responsible for safeguarding activities to act as a single point of contact for airport safeguarding technical and regulatory matters in the UK. \nSafeguarding activities at an aerodrome involves liaising with local planning authorities\, analysing the impact of developments on an airport’s safe operations\, including: the height of buildings\, landscaping\, wildlife hazards\, impact on CNS equipment and instrument flight procedures (IFPs)\, glint and glare\, lighting and obstacle lighting. \nMembers of the working group share best practice and technical expertise\, debate and consult on regulatory development and liaise with the CAA on changes in the current and future regulatory framework. \nThe membership works towards ensuring consistent standards are being delivered by all stakeholders in the industry. \nThe working group meets at least twice a year and provides the chance for professionals to upskill via bespoke training and through liaising with industry experts to learn about new technologies and trends. \nFor more information please email info@airportsuk.org.
URL:https://airportsuk.org/event/aoa-aerodrome-safeguarding-seminar-%c2%a6-in-person-%c2%a6-airport-location-tbc/
LOCATION:Southampton Airport\, Southampton\, SO18 2NL\, United Kingdom
CATEGORIES:Specialists' Groups
ATTACH;FMTTYPE=image/jpeg:https://airportsuk.org/wp-content/uploads/2023/10/Aerodrome-safeguarding-WG-scaled-e1763735483782.jpg
END:VEVENT
BEGIN:VEVENT
DTSTART;TZID=Europe/London:20240709T140000
DTEND;TZID=Europe/London:20240709T163000
DTSTAMP:20260422T155325
CREATED:20240624T085031Z
LAST-MODIFIED:20240704T194402Z
UID:10000566-1720533600-1720542600@airportsuk.org
SUMMARY:Aerodrome Safety & Compliance Working Group meeting
DESCRIPTION:Operations managers and directors from our member airports come together with specialist stakeholders in the Aerodrome Safety & Compliance working group to facilitate and actively promote technical knowledge & best practice sharing to achieve the highest levels of safety and compliance in a consistent manner across aerodromes. \nThe group coordinates consultations and open communications with aerodromes and regulatory bodies to ensure safe working practices\, supported by robust reporting methods\, are met in all relevant operational business units. \nThe group’s discussions range from runway safety and aerodrome audits to ensuring smooth winter operations across the UK’s airports\, studying emerging and existing safety risks and identifying potential solutions to mitigate the operational impact\, and managing the implementation of regulatory developments and requirements. \nFor more information\, please email info@airportsuk.org.
URL:https://airportsuk.org/event/aerodrome-safety-compliance-working-group-asc-5/
LOCATION:Virtual Meeting
CATEGORIES:Specialists' Groups
ATTACH;FMTTYPE=image/jpeg:https://airportsuk.org/wp-content/uploads/2023/08/Aerodrome-safety-compliance-WG-scaled.jpg
END:VEVENT
BEGIN:VEVENT
DTSTART;TZID=Europe/London:20240627T110000
DTEND;TZID=Europe/London:20240627T130000
DTSTAMP:20260422T155325
CREATED:20231024T165817Z
LAST-MODIFIED:20240628T133125Z
UID:10000557-1719486000-1719493200@airportsuk.org
SUMMARY:Rescue & Fire Fighting Services Working Group meeting
DESCRIPTION:Join airport fire managers and senior fire service officers from member airports to share best practice and regulatory concerns affecting the rescue and fire fighting services. \nThis group works closely with industry subject matters experts\, including the CAA\, and actively supports the UK Airports annual national campaign. \nProfessional discussion and industry engagement will focus on subjects such as the EASA transition impacting the RFFS post-Brexit\, post-COVID-19 management of the RFFS\, implementation of RFFS medical standards\, and emergency preparedness around airport fuel farms. \nFor more information\, please email info@airportsuk.org.
URL:https://airportsuk.org/event/aoa-rffs-working-group-%c2%a6-3rd-mtg-%c2%a6-virtual-ms-teams/
LOCATION:Virtual Meeting
CATEGORIES:Specialists' Groups
ATTACH;FMTTYPE=image/jpeg:https://airportsuk.org/wp-content/uploads/2023/10/RFFS-WG.jpg
END:VEVENT
BEGIN:VEVENT
DTSTART;TZID=Europe/London:20240619T110000
DTEND;TZID=Europe/London:20240619T130000
DTSTAMP:20260422T155325
CREATED:20230830T112149Z
LAST-MODIFIED:20240628T133310Z
UID:10000548-1718794800-1718802000@airportsuk.org
SUMMARY:Aerodrome\, Safety & Compliance Working Group (ASC)
DESCRIPTION:
URL:https://airportsuk.org/event/aerodrome-safety-compliance-working-group-asc-3/
LOCATION:Virtual Meeting
CATEGORIES:Specialists' Groups
ATTACH;FMTTYPE=image/png:https://airportsuk.org/wp-content/uploads/2024/03/aoa-feture-image.png
END:VEVENT
BEGIN:VEVENT
DTSTART;TZID=Europe/London:20240613T133000
DTEND;TZID=Europe/London:20240613T150000
DTSTAMP:20260422T155325
CREATED:20230809T114422Z
LAST-MODIFIED:20240628T133310Z
UID:10000538-1718285400-1718290800@airportsuk.org
SUMMARY:Security Group ¦ Airports only session ¦ In-person
DESCRIPTION:Airports only session
URL:https://airportsuk.org/event/aoa-security-group-%c2%a6-airports-only-session-%c2%a6-in-person-2/
LOCATION:AirportsUK Offices\, Kings Buildings\, 16 Smith Square\, London\, SW1P 3HQ\, United Kingdom
CATEGORIES:Specialists' Groups
ATTACH;FMTTYPE=image/png:https://airportsuk.org/wp-content/uploads/2024/03/aoa-feture-image.png
END:VEVENT
BEGIN:VEVENT
DTSTART;TZID=Europe/London:20240613T110000
DTEND;TZID=Europe/London:20240613T123000
DTSTAMP:20260422T155325
CREATED:20230809T113525Z
LAST-MODIFIED:20240628T133311Z
UID:10000535-1718276400-1718281800@airportsuk.org
SUMMARY:Security Group ¦ Airports & non-Airport members (in-person) ¦ 2nd mtg
DESCRIPTION:A light lunch will be provided from 1230-1330
URL:https://airportsuk.org/event/aoa-security-group-%c2%a6-airports-non-airport-members-in-person-%c2%a6-2nd-mtg/
LOCATION:AirportsUK Offices\, Kings Buildings\, 16 Smith Square\, London\, SW1P 3HQ\, United Kingdom
CATEGORIES:Specialists' Groups
ATTACH;FMTTYPE=image/png:https://airportsuk.org/wp-content/uploads/2024/03/aoa-feture-image.png
END:VEVENT
BEGIN:VEVENT
DTSTART;TZID=Europe/London:20240604T130000
DTEND;TZID=Europe/London:20240604T150000
DTSTAMP:20260422T155325
CREATED:20230804T153800Z
LAST-MODIFIED:20240628T133311Z
UID:10000527-1717506000-1717513200@airportsuk.org
SUMMARY:H&S Working Group ¦ Virtual
DESCRIPTION:
URL:https://airportsuk.org/event/hs-working-group-%c2%a6-virtual-2/
LOCATION:Virtual Meeting
CATEGORIES:Specialists' Groups
ATTACH;FMTTYPE=image/png:https://airportsuk.org/wp-content/uploads/2024/03/aoa-feture-image.png
END:VEVENT
BEGIN:VEVENT
DTSTART;TZID=Europe/London:20240604T110000
DTEND;TZID=Europe/London:20240604T130000
DTSTAMP:20260422T155325
CREATED:20230816T055508Z
LAST-MODIFIED:20240628T133311Z
UID:10000543-1717498800-1717506000@airportsuk.org
SUMMARY:PACN & Policy Committee ¦ In-person
DESCRIPTION:
URL:https://airportsuk.org/event/pacn-policy-committee-%c2%a6-in-person-4/
LOCATION:AirportsUK Offices\, Kings Buildings\, 16 Smith Square\, London\, SW1P 3HQ\, United Kingdom
CATEGORIES:Specialists' Groups
ATTACH;FMTTYPE=image/png:https://airportsuk.org/wp-content/uploads/2024/03/aoa-feture-image.png
END:VEVENT
BEGIN:VEVENT
DTSTART;TZID=Europe/London:20240501T110000
DTEND;TZID=Europe/London:20240501T130000
DTSTAMP:20260422T155325
CREATED:20230808T155418Z
LAST-MODIFIED:20240628T133311Z
UID:10000531-1714561200-1714568400@airportsuk.org
SUMMARY:AATS Working Group ¦ 2nd mtg ¦ Virtual (MS Teams)
DESCRIPTION:
URL:https://airportsuk.org/event/aoa-aats-working-group-%c2%a6-2nd-mtg-%c2%a6-virtual-ms-teams/
LOCATION:Virtual Meeting
CATEGORIES:Specialists' Groups
ATTACH;FMTTYPE=image/png:https://airportsuk.org/wp-content/uploads/2024/03/aoa-feture-image.png
END:VEVENT
BEGIN:VEVENT
DTSTART;TZID=Europe/London:20240430T090000
DTEND;TZID=Europe/London:20240430T170000
DTSTAMP:20260422T155325
CREATED:20230830T112016Z
LAST-MODIFIED:20240628T133311Z
UID:10000547-1714467600-1714496400@airportsuk.org
SUMMARY:Aerodrome\, Safety & Compliance Working Group (ASC)
DESCRIPTION:Airport visit\, location tbc
URL:https://airportsuk.org/event/aerodrome-safety-compliance-working-group-asc-2/
LOCATION:To be confirmed
CATEGORIES:Specialists' Groups
ATTACH;FMTTYPE=image/png:https://airportsuk.org/wp-content/uploads/2024/03/aoa-feture-image.png
END:VEVENT
BEGIN:VEVENT
DTSTART;TZID=Europe/London:20240417T110000
DTEND;TZID=Europe/London:20240417T160000
DTSTAMP:20260422T155325
CREATED:20231024T165706Z
LAST-MODIFIED:20240628T133311Z
UID:10000556-1713351600-1713369600@airportsuk.org
SUMMARY:RFFS Working Group ¦ 2nd mtg ¦ In-person\, Edinburgh Airport
DESCRIPTION:
URL:https://airportsuk.org/event/aoa-rffs-working-group-%c2%a6-2nd-mtg-%c2%a6-in-person-airport-visit-location-tbc/
LOCATION:Edinburgh Airport\, Edinburgh\, EH12 9DN
CATEGORIES:Specialists' Groups
ATTACH;FMTTYPE=image/png:https://airportsuk.org/wp-content/uploads/2024/03/aoa-feture-image.png
END:VEVENT
BEGIN:VEVENT
DTSTART;TZID=Europe/London:20240409T110000
DTEND;TZID=Europe/London:20240409T130000
DTSTAMP:20260422T155325
CREATED:20230816T055408Z
LAST-MODIFIED:20240628T133311Z
UID:10000542-1712660400-1712667600@airportsuk.org
SUMMARY:PACN & Policy Committee ¦ In-person
DESCRIPTION:
URL:https://airportsuk.org/event/pacn-policy-committee-%c2%a6-in-person-3/
LOCATION:AirportsUK Offices\, Kings Buildings\, 16 Smith Square\, London\, SW1P 3HQ\, United Kingdom
CATEGORIES:Specialists' Groups
ATTACH;FMTTYPE=image/png:https://airportsuk.org/wp-content/uploads/2024/03/aoa-feture-image.png
END:VEVENT
BEGIN:VEVENT
DTSTART;TZID=Europe/London:20240320T130000
DTEND;TZID=Europe/London:20240320T150000
DTSTAMP:20260422T155325
CREATED:20230804T153700Z
LAST-MODIFIED:20240628T133311Z
UID:10000528-1710939600-1710946800@airportsuk.org
SUMMARY:H&S Working Group ¦ Virtual
DESCRIPTION:
URL:https://airportsuk.org/event/hs-working-group-%c2%a6-virtual/
LOCATION:Virtual Meeting
CATEGORIES:Specialists' Groups
ATTACH;FMTTYPE=image/png:https://airportsuk.org/wp-content/uploads/2024/03/aoa-feture-image.png
END:VEVENT
BEGIN:VEVENT
DTSTART;TZID=Europe/London:20240314T133000
DTEND;TZID=Europe/London:20240314T150000
DTSTAMP:20260422T155325
CREATED:20230809T114248Z
LAST-MODIFIED:20240628T133311Z
UID:10000537-1710423000-1710428400@airportsuk.org
SUMMARY:Security Group ¦ Airports only session ¦ In-person
DESCRIPTION:Airports only session
URL:https://airportsuk.org/event/aoa-security-group-%c2%a6-airports-only-session-%c2%a6-in-person/
LOCATION:AirportsUK Offices\, Kings Buildings\, 16 Smith Square\, London\, SW1P 3HQ\, United Kingdom
CATEGORIES:Specialists' Groups
ATTACH;FMTTYPE=image/png:https://airportsuk.org/wp-content/uploads/2024/03/aoa-feture-image.png
END:VEVENT
BEGIN:VEVENT
DTSTART;TZID=Europe/London:20240314T110000
DTEND;TZID=Europe/London:20240314T123000
DTSTAMP:20260422T155325
CREATED:20230809T113419Z
LAST-MODIFIED:20240628T133311Z
UID:10000534-1710414000-1710419400@airportsuk.org
SUMMARY:Security Group ¦ Airports & non-Airport members (in-person) ¦ 1st mtg
DESCRIPTION:A light lunch will be provided from 1230-1330
URL:https://airportsuk.org/event/aoa-security-group-%c2%a6-airports-non-airport-members-in-person-%c2%a6-1st-mtg/
LOCATION:AirportsUK Offices\, Kings Buildings\, 16 Smith Square\, London\, SW1P 3HQ\, United Kingdom
CATEGORIES:Specialists' Groups
ATTACH;FMTTYPE=image/png:https://airportsuk.org/wp-content/uploads/2024/03/aoa-feture-image.png
END:VEVENT
BEGIN:VEVENT
DTSTART;TZID=Europe/London:20240227T110000
DTEND;TZID=Europe/London:20240227T130000
DTSTAMP:20260422T155325
CREATED:20230808T155313Z
LAST-MODIFIED:20240628T133311Z
UID:10000530-1709031600-1709038800@airportsuk.org
SUMMARY:AATS Working Group ¦ 1st mtg ¦ In-person\, AOA Office
DESCRIPTION:A light lunch will be served.
URL:https://airportsuk.org/event/aoa-aats-working-group-%c2%a6-1st-mtg-%c2%a6-in-person-aoa-office/
LOCATION:AirportsUK Offices\, Kings Buildings\, 16 Smith Square\, London\, SW1P 3HQ\, United Kingdom
CATEGORIES:Specialists' Groups
ATTACH;FMTTYPE=image/png:https://airportsuk.org/wp-content/uploads/2024/03/aoa-feture-image.png
END:VEVENT
BEGIN:VEVENT
DTSTART;TZID=Europe/London:20240222T110000
DTEND;TZID=Europe/London:20240222T130000
DTSTAMP:20260422T155325
CREATED:20231025T104617Z
LAST-MODIFIED:20240628T133311Z
UID:10000559-1708599600-1708606800@airportsuk.org
SUMMARY:Aerodrome Safeguarding Group ¦ In-person ¦ AOA Office
DESCRIPTION:
URL:https://airportsuk.org/event/aoa-aerodrome-safeguarding-group-%c2%a6-in-person-%c2%a6-aoa-office/
LOCATION:AirportsUK Offices\, Kings Buildings\, 16 Smith Square\, London\, SW1P 3HQ\, United Kingdom
CATEGORIES:Specialists' Groups
ATTACH;FMTTYPE=image/png:https://airportsuk.org/wp-content/uploads/2024/03/aoa-feture-image.png
END:VEVENT
BEGIN:VEVENT
DTSTART;TZID=Europe/London:20240129T110000
DTEND;TZID=Europe/London:20240129T130000
DTSTAMP:20260422T155325
CREATED:20230830T111916Z
LAST-MODIFIED:20240628T133311Z
UID:10000546-1706526000-1706533200@airportsuk.org
SUMMARY:Aerodrome\, Safety & Compliance Working Group (ASC)
DESCRIPTION:
URL:https://airportsuk.org/event/aerodrome-safety-compliance-working-group-asc/
LOCATION:Virtual Meeting
CATEGORIES:Specialists' Groups
ATTACH;FMTTYPE=image/png:https://airportsuk.org/wp-content/uploads/2024/03/aoa-feture-image.png
END:VEVENT
BEGIN:VEVENT
DTSTART;TZID=Europe/London:20240116T110000
DTEND;TZID=Europe/London:20240116T130000
DTSTAMP:20260422T155325
CREATED:20230816T055322Z
LAST-MODIFIED:20240628T133311Z
UID:10000541-1705402800-1705410000@airportsuk.org
SUMMARY:PACN & Policy Committee ¦ In-person
DESCRIPTION:
URL:https://airportsuk.org/event/pacn-policy-committee-%c2%a6-in-person-2/
LOCATION:AirportsUK Offices\, Kings Buildings\, 16 Smith Square\, London\, SW1P 3HQ\, United Kingdom
CATEGORIES:Specialists' Groups
ATTACH;FMTTYPE=image/png:https://airportsuk.org/wp-content/uploads/2024/03/aoa-feture-image.png
END:VEVENT
END:VCALENDAR