BEGIN:VCALENDAR
VERSION:2.0
PRODID:-//AirportsUK - ECPv6.15.20//NONSGML v1.0//EN
CALSCALE:GREGORIAN
METHOD:PUBLISH
X-ORIGINAL-URL:https://airportsuk.org
X-WR-CALDESC:Events for AirportsUK
REFRESH-INTERVAL;VALUE=DURATION:PT1H
X-Robots-Tag:noindex
X-PUBLISHED-TTL:PT1H
BEGIN:VTIMEZONE
TZID:Europe/London
BEGIN:DAYLIGHT
TZOFFSETFROM:+0000
TZOFFSETTO:+0100
TZNAME:BST
DTSTART:20250330T010000
END:DAYLIGHT
BEGIN:STANDARD
TZOFFSETFROM:+0100
TZOFFSETTO:+0000
TZNAME:GMT
DTSTART:20251026T010000
END:STANDARD
BEGIN:DAYLIGHT
TZOFFSETFROM:+0000
TZOFFSETTO:+0100
TZNAME:BST
DTSTART:20260329T010000
END:DAYLIGHT
BEGIN:STANDARD
TZOFFSETFROM:+0100
TZOFFSETTO:+0000
TZNAME:GMT
DTSTART:20261025T010000
END:STANDARD
BEGIN:DAYLIGHT
TZOFFSETFROM:+0000
TZOFFSETTO:+0100
TZNAME:BST
DTSTART:20270328T010000
END:DAYLIGHT
BEGIN:STANDARD
TZOFFSETFROM:+0100
TZOFFSETTO:+0000
TZNAME:GMT
DTSTART:20271031T010000
END:STANDARD
BEGIN:DAYLIGHT
TZOFFSETFROM:+0000
TZOFFSETTO:+0100
TZNAME:BST
DTSTART:20280326T010000
END:DAYLIGHT
BEGIN:STANDARD
TZOFFSETFROM:+0100
TZOFFSETTO:+0000
TZNAME:GMT
DTSTART:20281029T010000
END:STANDARD
END:VTIMEZONE
BEGIN:VEVENT
DTSTART;TZID=Europe/London:20260428T103000
DTEND;TZID=Europe/London:20260428T130000
DTSTAMP:20260420T035225
CREATED:20250703T150954Z
LAST-MODIFIED:20250703T150954Z
UID:10000650-1777372200-1777381200@airportsuk.org
SUMMARY:AirportsUK Board meeting
DESCRIPTION:
URL:https://airportsuk.org/event/airportsuk-board-meeting-3/
LOCATION:AirportsUK Offices\, Kings Buildings\, 16 Smith Square\, London\, SW1P 3HQ\, United Kingdom
CATEGORIES:Board Meetings
ATTACH;FMTTYPE=image/png:https://airportsuk.org/wp-content/uploads/2024/05/Aoa-logo-email.png
END:VEVENT
BEGIN:VEVENT
DTSTART;TZID=Europe/London:20260630T103000
DTEND;TZID=Europe/London:20260630T130000
DTSTAMP:20260420T035225
CREATED:20250703T151103Z
LAST-MODIFIED:20250703T151103Z
UID:10000651-1782815400-1782824400@airportsuk.org
SUMMARY:AirportsUK Board meeting
DESCRIPTION:
URL:https://airportsuk.org/event/airportsuk-board-meeting-10/
LOCATION:AirportsUK Offices\, Kings Buildings\, 16 Smith Square\, London\, SW1P 3HQ\, United Kingdom
CATEGORIES:Board Meetings
ATTACH;FMTTYPE=image/png:https://airportsuk.org/wp-content/uploads/2024/05/Aoa-logo-email.png
END:VEVENT
BEGIN:VEVENT
DTSTART;TZID=Europe/London:20260922T103000
DTEND;TZID=Europe/London:20260922T130000
DTSTAMP:20260420T035225
CREATED:20250703T151141Z
LAST-MODIFIED:20250703T151141Z
UID:10000652-1790073000-1790082000@airportsuk.org
SUMMARY:AirportsUK Board meeting
DESCRIPTION:
URL:https://airportsuk.org/event/airportsuk-board-meeting-11/
LOCATION:AirportsUK Offices\, Kings Buildings\, 16 Smith Square\, London\, SW1P 3HQ\, United Kingdom
CATEGORIES:Board Meetings
ATTACH;FMTTYPE=image/png:https://airportsuk.org/wp-content/uploads/2024/05/Aoa-logo-email.png
END:VEVENT
BEGIN:VEVENT
DTSTART;TZID=Europe/London:20261117T103000
DTEND;TZID=Europe/London:20261117T150000
DTSTAMP:20260420T035225
CREATED:20250703T151323Z
LAST-MODIFIED:20250703T151323Z
UID:10000654-1794911400-1794927600@airportsuk.org
SUMMARY:AirportsUK Board meeting ¦ continues into the afternoon
DESCRIPTION:
URL:https://airportsuk.org/event/airportsuk-board-meeting-%c2%a6-continues-into-the-afternoon/
LOCATION:AirportsUK Offices\, Kings Buildings\, 16 Smith Square\, London\, SW1P 3HQ\, United Kingdom
CATEGORIES:Board Meetings
ATTACH;FMTTYPE=image/png:https://airportsuk.org/wp-content/uploads/2024/05/Aoa-logo-email.png
END:VEVENT
BEGIN:VEVENT
DTSTART;TZID=Europe/London:20270127T103000
DTEND;TZID=Europe/London:20270127T130000
DTSTAMP:20260420T035225
CREATED:20250703T151420Z
LAST-MODIFIED:20250703T151420Z
UID:10000653-1801045800-1801054800@airportsuk.org
SUMMARY:AirportsUK Board meeting
DESCRIPTION:
URL:https://airportsuk.org/event/airportsuk-board-meeting-12/
LOCATION:AirportsUK Offices\, Kings Buildings\, 16 Smith Square\, London\, SW1P 3HQ\, United Kingdom
CATEGORIES:Board Meetings
ATTACH;FMTTYPE=image/png:https://airportsuk.org/wp-content/uploads/2024/05/Aoa-logo-email.png
END:VEVENT
END:VCALENDAR