BEGIN:VCALENDAR
VERSION:2.0
PRODID:-//AirportsUK - ECPv6.15.20//NONSGML v1.0//EN
CALSCALE:GREGORIAN
METHOD:PUBLISH
X-WR-CALNAME:AirportsUK
X-ORIGINAL-URL:https://airportsuk.org
X-WR-CALDESC:Events for AirportsUK
REFRESH-INTERVAL;VALUE=DURATION:PT1H
X-Robots-Tag:noindex
X-PUBLISHED-TTL:PT1H
BEGIN:VTIMEZONE
TZID:Europe/London
BEGIN:DAYLIGHT
TZOFFSETFROM:+0000
TZOFFSETTO:+0100
TZNAME:BST
DTSTART:20230326T010000
END:DAYLIGHT
BEGIN:STANDARD
TZOFFSETFROM:+0100
TZOFFSETTO:+0000
TZNAME:GMT
DTSTART:20231029T010000
END:STANDARD
BEGIN:DAYLIGHT
TZOFFSETFROM:+0000
TZOFFSETTO:+0100
TZNAME:BST
DTSTART:20240331T010000
END:DAYLIGHT
BEGIN:STANDARD
TZOFFSETFROM:+0100
TZOFFSETTO:+0000
TZNAME:GMT
DTSTART:20241027T010000
END:STANDARD
BEGIN:DAYLIGHT
TZOFFSETFROM:+0000
TZOFFSETTO:+0100
TZNAME:BST
DTSTART:20250330T010000
END:DAYLIGHT
BEGIN:STANDARD
TZOFFSETFROM:+0100
TZOFFSETTO:+0000
TZNAME:GMT
DTSTART:20251026T010000
END:STANDARD
BEGIN:DAYLIGHT
TZOFFSETFROM:+0000
TZOFFSETTO:+0100
TZNAME:BST
DTSTART:20260329T010000
END:DAYLIGHT
BEGIN:STANDARD
TZOFFSETFROM:+0100
TZOFFSETTO:+0000
TZNAME:GMT
DTSTART:20261025T010000
END:STANDARD
BEGIN:DAYLIGHT
TZOFFSETFROM:+0000
TZOFFSETTO:+0100
TZNAME:BST
DTSTART:20270328T010000
END:DAYLIGHT
BEGIN:STANDARD
TZOFFSETFROM:+0100
TZOFFSETTO:+0000
TZNAME:GMT
DTSTART:20271031T010000
END:STANDARD
END:VTIMEZONE
BEGIN:VEVENT
DTSTART;TZID=Europe/London:20260127T103000
DTEND;TZID=Europe/London:20260127T130000
DTSTAMP:20260420T042841
CREATED:20240624T145838Z
LAST-MODIFIED:20240628T132232Z
UID:10000590-1769509800-1769518800@airportsuk.org
SUMMARY:AirportsUK Board meeting
DESCRIPTION:
URL:https://airportsuk.org/event/airportsuk-board-meeting-9/
LOCATION:AirportsUK Offices\, Kings Buildings\, 16 Smith Square\, London\, SW1P 3HQ\, United Kingdom
CATEGORIES:Board Meetings
ATTACH;FMTTYPE=image/png:https://airportsuk.org/wp-content/uploads/2024/05/Aoa-logo-email.png
END:VEVENT
BEGIN:VEVENT
DTSTART;TZID=Europe/London:20251118T103000
DTEND;TZID=Europe/London:20251118T150000
DTSTAMP:20260420T042841
CREATED:20240624T145630Z
LAST-MODIFIED:20250619T093153Z
UID:10000589-1763461800-1763478000@airportsuk.org
SUMMARY:AirportsUK Board meeting ¦ continues into the afternoon
DESCRIPTION:
URL:https://airportsuk.org/event/airportsuk-board-meeting-8/
LOCATION:AirportsUK Offices\, Kings Buildings\, 16 Smith Square\, London\, SW1P 3HQ\, United Kingdom
CATEGORIES:Board Meetings
ATTACH;FMTTYPE=image/png:https://airportsuk.org/wp-content/uploads/2024/05/Aoa-logo-email.png
END:VEVENT
BEGIN:VEVENT
DTSTART;TZID=Europe/London:20251002T103000
DTEND;TZID=Europe/London:20251002T130000
DTSTAMP:20260420T042841
CREATED:20240624T145555Z
LAST-MODIFIED:20250219T150134Z
UID:10000588-1759401000-1759410000@airportsuk.org
SUMMARY:AirportsUK Board meeting
DESCRIPTION:
URL:https://airportsuk.org/event/airportsuk-board-meeting-7/
LOCATION:AirportsUK Offices\, Kings Buildings\, 16 Smith Square\, London\, SW1P 3HQ\, United Kingdom
CATEGORIES:Board Meetings
ATTACH;FMTTYPE=image/png:https://airportsuk.org/wp-content/uploads/2024/05/Aoa-logo-email.png
END:VEVENT
BEGIN:VEVENT
DTSTART;TZID=Europe/London:20250623T103000
DTEND;TZID=Europe/London:20250623T130000
DTSTAMP:20260420T042841
CREATED:20240624T145512Z
LAST-MODIFIED:20240628T132232Z
UID:10000587-1750674600-1750683600@airportsuk.org
SUMMARY:AirportsUK Board meeting
DESCRIPTION:
URL:https://airportsuk.org/event/airportsuk-board-meeting-6/
LOCATION:AirportsUK Offices\, Kings Buildings\, 16 Smith Square\, London\, SW1P 3HQ\, United Kingdom
CATEGORIES:Board Meetings
ATTACH;FMTTYPE=image/png:https://airportsuk.org/wp-content/uploads/2024/05/Aoa-logo-email.png
END:VEVENT
BEGIN:VEVENT
DTSTART;TZID=Europe/London:20250429T103000
DTEND;TZID=Europe/London:20250429T130000
DTSTAMP:20260420T042841
CREATED:20240624T145231Z
LAST-MODIFIED:20240628T132232Z
UID:10000586-1745922600-1745931600@airportsuk.org
SUMMARY:AirportsUK Board meeting
DESCRIPTION:
URL:https://airportsuk.org/event/airportsuk-board-meeting-5/
LOCATION:AirportsUK Offices\, Kings Buildings\, 16 Smith Square\, London\, SW1P 3HQ\, United Kingdom
CATEGORIES:Board Meetings
ATTACH;FMTTYPE=image/png:https://airportsuk.org/wp-content/uploads/2024/05/Aoa-logo-email.png
END:VEVENT
BEGIN:VEVENT
DTSTART;TZID=Europe/London:20250128T103000
DTEND;TZID=Europe/London:20250128T130000
DTSTAMP:20260420T042841
CREATED:20240624T144842Z
LAST-MODIFIED:20240628T132232Z
UID:10000585-1738060200-1738069200@airportsuk.org
SUMMARY:AirportsUK Board meeting
DESCRIPTION:
URL:https://airportsuk.org/event/airportsuk-board-meeting-4/
LOCATION:AirportsUK Offices\, Kings Buildings\, 16 Smith Square\, London\, SW1P 3HQ\, United Kingdom
CATEGORIES:Board Meetings
ATTACH;FMTTYPE=image/png:https://airportsuk.org/wp-content/uploads/2024/05/Aoa-logo-email.png
END:VEVENT
BEGIN:VEVENT
DTSTART;TZID=Europe/London:20241126T103000
DTEND;TZID=Europe/London:20241126T170000
DTSTAMP:20260420T042841
CREATED:20240624T142849Z
LAST-MODIFIED:20240628T132927Z
UID:10000581-1732617000-1732640400@airportsuk.org
SUMMARY:AirportsUK Board meeting
DESCRIPTION:
URL:https://airportsuk.org/event/airportsuk-board-meeting-2/
LOCATION:AirportsUK Offices\, Kings Buildings\, 16 Smith Square\, London\, SW1P 3HQ\, United Kingdom
CATEGORIES:Board Meetings
ATTACH;FMTTYPE=image/png:https://airportsuk.org/wp-content/uploads/2024/05/Aoa-logo-email.png
END:VEVENT
BEGIN:VEVENT
DTSTART;TZID=Europe/London:20241001T100000
DTEND;TZID=Europe/London:20241001T130000
DTSTAMP:20260420T042841
CREATED:20240624T142237Z
LAST-MODIFIED:20240814T164117Z
UID:10000580-1727776800-1727787600@airportsuk.org
SUMMARY:AirportsUK Board meeting
DESCRIPTION:
URL:https://airportsuk.org/event/airportsuk-board-meeting/
LOCATION:AirportsUK Offices\, Kings Buildings\, 16 Smith Square\, London\, SW1P 3HQ\, United Kingdom
CATEGORIES:Board Meetings
ATTACH;FMTTYPE=image/png:https://airportsuk.org/wp-content/uploads/2024/05/Aoa-logo-email.png
END:VEVENT
END:VCALENDAR